BEGIN:VCALENDAR
VERSION:2.0
CALSCALE:GREGORIAN
PRODID:-//Diputació de Barcelona//DibaCMS//EN
BEGIN:VEVENT
UID:3909
DTSTAMP:20260422T175854
DTSTART:20230606T110000
DTEND:20480627T000000
SUMMARY:La Diputació de Barcelona actuarà a la carretera de Dosrius a Llinars del Vallès
LOCATION:
METHOD:PUBLISH
X-WR-CALNAME:dosrius@dosrius.cat
X-WR-TIMEZONE:Europe/Madrid
DESCRIPTION:Els treballs d’arranjament és previst que comencin a partir del 12 de juny i es duran a terme en horari nocturn, de 21 a 06 h.

URI:https://www.dosrius.cat/actualitat/noticies/la-diputacio-de-barcelona-actuara-a-la-carretera-de-dosrius-a-llinars-del-valles.html
CLASS:PUBLIC
END:VEVENT
END:VCALENDAR
