BEGIN:VCALENDAR
VERSION:2.0
CALSCALE:GREGORIAN
PRODID:-//Diputació de Barcelona//DibaCMS//EN
BEGIN:VEVENT
UID:3908
DTSTAMP:20260423T002003
DTSTART:20230602T090000
DTEND:20380617T000000
SUMMARY:Cens electoral per a les eleccions a la Corts Generals 2023
LOCATION:
METHOD:PUBLISH
X-WR-CALNAME:dosrius@dosrius.cat
X-WR-TIMEZONE:Europe/Madrid
DESCRIPTION:El cens es podrà consultar del 5 al 12 de juny a l’Ajuntament de Dosrius.

URI:https://www.dosrius.cat/actualitat/noticies/3908-cens-electoral-per-a-les-eleccions-a-la-corts-generals-2023.html
CLASS:PUBLIC
END:VEVENT
END:VCALENDAR
