BEGIN:VCALENDAR
VERSION:2.0
CALSCALE:GREGORIAN
PRODID:-//Diputació de Barcelona//DibaCMS//EN
BEGIN:VEVENT
UID:3905
DTSTAMP:20260422T191836
DTSTART:20230602T000000
DTEND:20480618T235500
SUMMARY:Curset de natació a la piscina de Can Batlle
LOCATION:
METHOD:PUBLISH
X-WR-CALNAME:dosrius@dosrius.cat
X-WR-TIMEZONE:Europe/Madrid
DESCRIPTION:Les inscripcions es poden formalitzar al restaurant de la piscina.

URI:https://www.dosrius.cat/actualitat/noticies/curset-de-natacio-a-la-piscina-de-can-batlle.html
CLASS:PUBLIC
END:VEVENT
END:VCALENDAR
