BEGIN:VCALENDAR
VERSION:2.0
CALSCALE:GREGORIAN
PRODID:-//Diputació de Barcelona//DibaCMS//EN
BEGIN:VEVENT
UID:3904
DTSTAMP:20260422T193223
DTSTART:20230531T120000
DTEND:20480522T235500
SUMMARY:Dosrius s’apunta al Dia mundial per a la presa de consciència sobre l'abús i el maltractament a les persones grans
LOCATION:
METHOD:PUBLISH
X-WR-CALNAME:dosrius@dosrius.cat
X-WR-TIMEZONE:Europe/Madrid
DESCRIPTION:Dilluns 12 de juny s’organitzarà una caminada popular oberta a tota la població. 

URI:https://www.dosrius.cat/actualitat/noticies/dosrius-sapunta-al-dia-mundial-per-a-la-presa-de-consciencia-sobre-labus-i-el-maltractament-a-les-persones-grans.html
CLASS:PUBLIC
END:VEVENT
END:VCALENDAR
