BEGIN:VCALENDAR
VERSION:2.0
CALSCALE:GREGORIAN
PRODID:-//Diputació de Barcelona//DibaCMS//EN
BEGIN:VEVENT
UID:3902
DTSTAMP:20260422T204151
DTSTART:20230601T080000
DTEND:20480508T000000
SUMMARY:Dosrius se suma a la Setmana Internacional dels Arxius 2023
LOCATION:
METHOD:PUBLISH
X-WR-CALNAME:dosrius@dosrius.cat
X-WR-TIMEZONE:Europe/Madrid
DESCRIPTION:Del 7 a l’11 de juny la Sala de Plens de l’Ajuntament acollirà una exposició de l’Arxiu Municipal de Dosrius per a donar a conèixer el patrimoni documental que tenim al municipi.

URI:https://www.dosrius.cat/actualitat/noticies/dosrius-se-suma-a-la-setmana-internacional-dels-arxius-2023.html
CLASS:PUBLIC
END:VEVENT
END:VCALENDAR
