BEGIN:VCALENDAR
VERSION:2.0
CALSCALE:GREGORIAN
PRODID:-//Diputació de Barcelona//DibaCMS//EN
BEGIN:VEVENT
UID:3900
DTSTAMP:20260422T213617
DTSTART:20230531T100000
DTEND:20480515T000000
SUMMARY:Gaudeix de l’estiu amb Els Localets
LOCATION:
METHOD:PUBLISH
X-WR-CALNAME:dosrius@dosrius.cat
X-WR-TIMEZONE:Europe/Madrid
DESCRIPTION:Del 26 de juny al 28 de juliol s’organitzaran diferents activitats. Les inscripcions ja es poden formalitzar fins el 13 de juny a l’Ajuntament.

URI:https://www.dosrius.cat/actualitat/noticies/3900-gaudeix-de-lestiu-amb-els-localets.html
CLASS:PUBLIC
END:VEVENT
END:VCALENDAR
