BEGIN:VCALENDAR
VERSION:2.0
CALSCALE:GREGORIAN
PRODID:-//Diputació de Barcelona//DibaCMS//EN
BEGIN:VEVENT
UID:3898
DTSTAMP:20260422T213652
DTSTART:20230530T000000
DTEND:20480515T000000
SUMMARY:Acord entre PSC-CP i JxCAT-CM per a encapçalar el nou govern municipal
LOCATION:
METHOD:PUBLISH
X-WR-CALNAME:dosrius@dosrius.cat
X-WR-TIMEZONE:Europe/Madrid
DESCRIPTION:Ambdues formacions governaran amb majoria (set regidors) al capdavant de l’Ajuntament de Dosrius pel mandat 2023-2027. 

URI:https://www.dosrius.cat/actualitat/noticies/acord-entre-psc-cp-i-jxcat-cm-per-a-encapcalar-el-nou-govern-municipal.html
CLASS:PUBLIC
END:VEVENT
END:VCALENDAR
