BEGIN:VCALENDAR
VERSION:2.0
CALSCALE:GREGORIAN
PRODID:-//Diputació de Barcelona//DibaCMS//EN
BEGIN:VEVENT
UID:3897
DTSTAMP:20260422T204324
DTSTART:20230528T000000
DTEND:20470524T000000
SUMMARY:28-M: resultats de les eleccions municipals a Dosrius
LOCATION:
METHOD:PUBLISH
X-WR-CALNAME:dosrius@dosrius.cat
X-WR-TIMEZONE:Europe/Madrid
DESCRIPTION:Un total de 2.528 veïns i veïnes han exercit el seu dret a vot per a escollir els representants municipals a l’Ajuntament de Dosrius.

URI:https://www.dosrius.cat/actualitat/noticies/28-m-resultats-de-les-eleccions-municipals-a-dosrius.html
CLASS:PUBLIC
END:VEVENT
END:VCALENDAR
