BEGIN:VCALENDAR
VERSION:2.0
CALSCALE:GREGORIAN
PRODID:-//Diputació de Barcelona//DibaCMS//EN
BEGIN:VEVENT
UID:3896
DTSTAMP:20260422T193726
DTSTART:20230524T000000
DTEND:20480619T000000
SUMMARY:Els veïns i veïnes de Can Massuet del Far ja poden recollir a l’Ajuntament les noves claus per accedir a les bústies de l’espai centralitzat
LOCATION:
METHOD:PUBLISH
X-WR-CALNAME:dosrius@dosrius.cat
X-WR-TIMEZONE:Europe/Madrid
DESCRIPTION:Les claus es poden recollir al consistori en horari d’oficines, de dilluns a divendres de 08.30 a 14.30 h; i els dijous, de 16.30 a 19 h.

URI:https://www.dosrius.cat/actualitat/noticies/els-veins-i-veines-de-can-massuet-del-far-ja-poden-recollir-a-lajuntament-les-noves-claus-per-accedir-a-les-busties-de-lespai-centralitzat.html
CLASS:PUBLIC
END:VEVENT
END:VCALENDAR
