BEGIN:VCALENDAR
VERSION:2.0
CALSCALE:GREGORIAN
PRODID:-//Diputació de Barcelona//DibaCMS//EN
BEGIN:VEVENT
UID:3891
DTSTAMP:20260422T192332
DTSTART:20230519T000000
DTEND:20240525T000000
SUMMARY:La campanya “A Dosrius, cap infant sense llet” recull prop de 1.000 litres de llet
LOCATION:
METHOD:PUBLISH
X-WR-CALNAME:dosrius@dosrius.cat
X-WR-TIMEZONE:Europe/Madrid
DESCRIPTION:L’Ajuntament agraeix la implicació de totes les persones que han pres part de la campanya i de totes les institucions que hi han col·laborat.

URI:https://www.dosrius.cat/actualitat/noticies/la-campanya-a-dosrius-cap-infant-sense-llet-recull-prop-de-1000-litres-de-llet.html
CLASS:PUBLIC
END:VEVENT
END:VCALENDAR
