BEGIN:VCALENDAR
VERSION:2.0
CALSCALE:GREGORIAN
PRODID:-//Diputació de Barcelona//DibaCMS//EN
BEGIN:VEVENT
UID:3886
DTSTAMP:20260422T180005
DTSTART:20230605T080000
DTEND:20480514T000000
SUMMARY:Afectacions al trànsit a l’accés  de Can Massuet del Far per a habilitar-hi una nova canonada d’aigua
LOCATION:
METHOD:PUBLISH
X-WR-CALNAME:dosrius@dosrius.cat
X-WR-TIMEZONE:Europe/Madrid
DESCRIPTION:Els treballs comportaran afectacions en el trànsit, amb el pas alternatiu de vehicles regulat a través de semàfors.

URI:https://www.dosrius.cat/actualitat/noticies/afectacions-al-transit-a-lacces-de-can-massuet-del-far-per-a-habilitar-hi-una-nova-canonada-daigua.html
CLASS:PUBLIC
END:VEVENT
END:VCALENDAR
