BEGIN:VCALENDAR
VERSION:2.0
CALSCALE:GREGORIAN
PRODID:-//Diputació de Barcelona//DibaCMS//EN
BEGIN:VEVENT
UID:3878
DTSTAMP:20260422T174223
DTSTART:20230510T000000
DTEND:20480411T000000
SUMMARY:Alerta sanitària sobre el kit de maquillatge "Pop girls mini beauty case set"
LOCATION:
METHOD:PUBLISH
X-WR-CALNAME:dosrius@dosrius.cat
X-WR-TIMEZONE:Europe/Madrid
DESCRIPTION:La Generalitat de Catalunya recomana no adquirir cap unitat dels lots afectats d’aquest producte i, en cas de disposar d’alguna unitat dels lots afectats d’aquest producte, deixeu-la d’utilitzar de manera immediata.

URI:https://www.dosrius.cat/actualitat/noticies/alerta-sanitaria-sobre-el-kit-de-maquillatge-pop-girls-mini-beauty-case-set.html
CLASS:PUBLIC
END:VEVENT
END:VCALENDAR
