BEGIN:VCALENDAR
VERSION:2.0
CALSCALE:GREGORIAN
PRODID:-//Diputació de Barcelona//DibaCMS//EN
BEGIN:VEVENT
UID:3873
DTSTAMP:20260422T204221
DTSTART:20230508T110000
DTEND:20480529T235500
SUMMARY:Primeres jornades d’alimentació saludable
LOCATION:
METHOD:PUBLISH
X-WR-CALNAME:dosrius@dosrius.cat
X-WR-TIMEZONE:Europe/Madrid
DESCRIPTION:Estan impulsades pels alumnes de 3r d'ESO de l'Institut Els Roures i es duran a terme el 9, 16 i 23 de maig.

URI:https://www.dosrius.cat/actualitat/noticies/primeres-jornades-dalimentacio-saludable.html
CLASS:PUBLIC
END:VEVENT
END:VCALENDAR
