BEGIN:VCALENDAR
VERSION:2.0
CALSCALE:GREGORIAN
PRODID:-//Diputació de Barcelona//DibaCMS//EN
BEGIN:VEVENT
UID:3872
DTSTAMP:20260422T175837
DTSTART:20230509T080000
DTEND:20480423T220000
SUMMARY:Convocatòria de les beques de menjador escolar per al curs 2023/2024
LOCATION:
METHOD:PUBLISH
X-WR-CALNAME:dosrius@dosrius.cat
X-WR-TIMEZONE:Europe/Madrid
DESCRIPTION:El termini de presentació de sol·licituds comença el 15 de maig i finalitza el 9 de juny.

URI:https://www.dosrius.cat/actualitat/noticies/convocatoria-de-les-beques-de-menjador-escolar-per-al-curs-20232024.html
CLASS:PUBLIC
END:VEVENT
END:VCALENDAR
