BEGIN:VCALENDAR
VERSION:2.0
CALSCALE:GREGORIAN
PRODID:-//Diputació de Barcelona//DibaCMS//EN
BEGIN:VEVENT
UID:3867
DTSTAMP:20260422T220425
DTSTART:20230504T080000
DTEND:20480522T000000
SUMMARY:Manual d’instruccions per a les persones que formen part de les Meses electorals
LOCATION:
METHOD:PUBLISH
X-WR-CALNAME:dosrius@dosrius.cat
X-WR-TIMEZONE:Europe/Madrid
DESCRIPTION:Les eleccions municipals 2023 tindran lloc el pròxim diumenge 28 de maig.

URI:https://www.dosrius.cat/actualitat/noticies/manual-dinstruccions-per-a-les-persones-que-formen-part-de-les-meses-electorals.html
CLASS:PUBLIC
END:VEVENT
END:VCALENDAR
