BEGIN:VCALENDAR
VERSION:2.0
CALSCALE:GREGORIAN
PRODID:-//Diputació de Barcelona//DibaCMS//EN
BEGIN:VEVENT
UID:3863
DTSTAMP:20260422T191851
DTSTART:20230503T080000
DTEND:20480522T000000
SUMMARY:Dosrius, escenari de la pel·lícula “Un cel de plom”
LOCATION:
METHOD:PUBLISH
X-WR-CALNAME:dosrius@dosrius.cat
X-WR-TIMEZONE:Europe/Madrid
DESCRIPTION:El film s’ha estrenat aquest cap de setmana i algunes de les seves escenes es van rodar a Can Llibre.

URI:https://www.dosrius.cat/actualitat/noticies/dosrius-escenari-de-la-pellicula-un-cel-de-plom.html
CLASS:PUBLIC
END:VEVENT
END:VCALENDAR
