BEGIN:VCALENDAR
VERSION:2.0
CALSCALE:GREGORIAN
PRODID:-//Diputació de Barcelona//DibaCMS//EN
BEGIN:VEVENT
UID:3861
DTSTAMP:20260422T204412
DTSTART:20230425T000000
DTEND:20480411T000000
SUMMARY:Alerta sanitària sobre alguns productes cosmètics de Parfums Codibel, SL
LOCATION:
METHOD:PUBLISH
X-WR-CALNAME:dosrius@dosrius.cat
X-WR-TIMEZONE:Europe/Madrid
DESCRIPTION:Segons informa la Generalitat de Catalunya, hi ha activa una alerta relacionada amb la retirada de diversos productes cosmètics (aigües de colònia i perfums) de Parfums Codibel SL.

URI:https://www.dosrius.cat/actualitat/noticies/alerta-sanitaria-sobre-alguns-productes-cosmetics-de-parfums-codibel-sl.html
CLASS:PUBLIC
END:VEVENT
END:VCALENDAR
