BEGIN:VCALENDAR
VERSION:2.0
CALSCALE:GREGORIAN
PRODID:-//Diputació de Barcelona//DibaCMS//EN
BEGIN:VEVENT
UID:3859
DTSTAMP:20260422T193855
DTSTART:20230328T000000
DTEND:20480418T000000
SUMMARY:Presentació del nou Pla de Comunicació de Serveis Socials
LOCATION:
METHOD:PUBLISH
X-WR-CALNAME:dosrius@dosrius.cat
X-WR-TIMEZONE:Europe/Madrid
DESCRIPTION:L’alcaldessa del municipi, Silvia Garrido, va obrir l’acte de presentació del Pla de Comunicació dels serveis socials de Dosrius que va tenir lloc el passat 27 de març. El document recull un total de 15 accions a implementar que, al llarg dels tres propers anys, han de donar a conèixer a la ciutadania, entitats, serveis i a altres serveis municipals què són i que fan els serveis socials. L’elaboració del pla s’ha realitzat amb el suport i la direcció de la Diputació de Barcelona.

URI:https://www.dosrius.cat/actualitat/noticies/presentacio-del-nou-pla-de-comunicacio-de-serveis-socials.html
CLASS:PUBLIC
END:VEVENT
END:VCALENDAR
