BEGIN:VCALENDAR
VERSION:2.0
CALSCALE:GREGORIAN
PRODID:-//Diputació de Barcelona//DibaCMS//EN
BEGIN:VEVENT
UID:3854
DTSTAMP:20260422T192901
DTSTART:20230418T000000
DTEND:20480424T000000
SUMMARY:Dosrius, escenari de la sèrie “Tú también lo harías” 
LOCATION:
METHOD:PUBLISH
X-WR-CALNAME:dosrius@dosrius.cat
X-WR-TIMEZONE:Europe/Madrid
DESCRIPTION:La sèrie s’estrenarà aquest 26 d’abril a la plataforma Diseny+.

URI:https://www.dosrius.cat/actualitat/noticies/dosrius-escenari-de-la-serie-tu-tambien-lo-harias-.html
CLASS:PUBLIC
END:VEVENT
END:VCALENDAR
