BEGIN:VCALENDAR
VERSION:2.0
CALSCALE:GREGORIAN
PRODID:-//Diputació de Barcelona//DibaCMS//EN
BEGIN:VEVENT
UID:3853
DTSTAMP:20260422T210130
DTSTART:20230415T080000
DTEND:20480424T000000
SUMMARY:Us ensenyem com estan projectades les noves dependències de la Policia Local de Dosrius
LOCATION:
METHOD:PUBLISH
X-WR-CALNAME:dosrius@dosrius.cat
X-WR-TIMEZONE:Europe/Madrid
DESCRIPTION:La nova seu del cos és previst que s’ubiqui davant de les oficines municipals de l’Ajuntament.

URI:https://www.dosrius.cat/actualitat/noticies/us-ensenyem-com-estan-projectades-les-noves-dependencies-de-la-policia-local-de-dosrius.html
CLASS:PUBLIC
END:VEVENT
END:VCALENDAR
