BEGIN:VCALENDAR
VERSION:2.0
CALSCALE:GREGORIAN
PRODID:-//Diputació de Barcelona//DibaCMS//EN
BEGIN:VEVENT
UID:3848
DTSTAMP:20260422T193320
DTSTART:20230413T110000
DTEND:20480418T000000
SUMMARY:Obertes dues convocatòries d’ajuts al lloguer: per a persones entre 36 i 64 anys i per a persones de 65 anys i més
LOCATION:
METHOD:PUBLISH
X-WR-CALNAME:dosrius@dosrius.cat
X-WR-TIMEZONE:Europe/Madrid
DESCRIPTION:Les sol·licituds es poden presentar de l’11 d’abril al 12 de maig.

URI:https://www.dosrius.cat/actualitat/noticies/obertes-dues-convocatories-dajuts-al-lloguer-per-a-persones-entre-36-i-64-anys-i-per-a-persones-de-65-anys-i-mes.html
CLASS:PUBLIC
END:VEVENT
END:VCALENDAR
