BEGIN:VCALENDAR
VERSION:2.0
CALSCALE:GREGORIAN
PRODID:-//Diputació de Barcelona//DibaCMS//EN
BEGIN:VEVENT
UID:3844
DTSTAMP:20260422T210156
DTSTART:20230405T130000
DTEND:20480321T000000
SUMMARY:Del 10 al 17 d’abril es pot consultar el cens electoral per a les eleccions municipals 2023
LOCATION:
METHOD:PUBLISH
X-WR-CALNAME:dosrius@dosrius.cat
X-WR-TIMEZONE:Europe/Madrid
DESCRIPTION:Totes aquelles persones interessades podran presentar reclamacions sobre actualització, inclusió, exclusió o modificació de dades.

URI:https://www.dosrius.cat/actualitat/noticies/del-10-al-17-dabril-es-pot-consultar-el-cens-electoral-per-a-les-eleccions-municipals-2023.html
CLASS:PUBLIC
END:VEVENT
END:VCALENDAR
