BEGIN:VCALENDAR
VERSION:2.0
CALSCALE:GREGORIAN
PRODID:-//Diputació de Barcelona//DibaCMS//EN
BEGIN:VEVENT
UID:3843
DTSTAMP:20260422T221111
DTSTART:20230405T080000
DTEND:20480424T000000
SUMMARY:Per Sant Jordi, cultura i tradició!
LOCATION:
METHOD:PUBLISH
X-WR-CALNAME:dosrius@dosrius.cat
X-WR-TIMEZONE:Europe/Madrid
DESCRIPTION:Diumenge 23 d’abril la plaça de Can Torres acollirà de 10 a 13 h diferents activitats festives per a celebrar la diada. 

URI:https://www.dosrius.cat/actualitat/noticies/per-sant-jordi-cultura-i-tradicio.html
CLASS:PUBLIC
END:VEVENT
END:VCALENDAR
