BEGIN:VCALENDAR
VERSION:2.0
CALSCALE:GREGORIAN
PRODID:-//Diputació de Barcelona//DibaCMS//EN
BEGIN:VEVENT
UID:3840
DTSTAMP:20260422T191757
DTSTART:20230404T080000
DTEND:20480417T000000
SUMMARY:Arriba la Fira d’Abril de Dosrius!
LOCATION:
METHOD:PUBLISH
X-WR-CALNAME:dosrius@dosrius.cat
X-WR-TIMEZONE:Europe/Madrid
DESCRIPTION:El dissabte 15 d’abril podrem gaudir d’una tarda familiar i lúdica amb diferents propostes festives, d’art i de tradició.

URI:https://www.dosrius.cat/actualitat/noticies/arriba-la-fira-dabril-de-dosrius.html
CLASS:PUBLIC
END:VEVENT
END:VCALENDAR
