BEGIN:VCALENDAR
VERSION:2.0
CALSCALE:GREGORIAN
PRODID:-//Diputació de Barcelona//DibaCMS//EN
BEGIN:VEVENT
UID:3836
DTSTAMP:20260423T040414
DTSTART:20230331T080000
DTEND:20470315T235500
SUMMARY:El DAI s’habilitarà temporalment a l’Alberg Mas Silvestre
LOCATION:
METHOD:PUBLISH
X-WR-CALNAME:dosrius@dosrius.cat
X-WR-TIMEZONE:Europe/Madrid
DESCRIPTION:Aquest servei es prestarà de forma provisional a Canyamars mentre s'executen les tasques d'adequació definitiva d'aquest espai en un altre municipi.

URI:https://www.dosrius.cat/actualitat/noticies/el-dai-shabilitara-temporalment-a-lalberg-mas-silvestre.html
CLASS:PUBLIC
END:VEVENT
END:VCALENDAR
