BEGIN:VCALENDAR
VERSION:2.0
CALSCALE:GREGORIAN
PRODID:-//Diputació de Barcelona//DibaCMS//EN
BEGIN:VEVENT
UID:3835
DTSTAMP:20260422T221856
DTSTART:20230330T080000
DTEND:20740316T000000
SUMMARY:L’Ajuntament de Dosrius renova un any més el Segell InfoParticipa
LOCATION:
METHOD:PUBLISH
X-WR-CALNAME:dosrius@dosrius.cat
X-WR-TIMEZONE:Europe/Madrid
DESCRIPTION:El consistori obté aquesta distinció que premia la transparència de la pàgina web municipal, amb un 90,38% de compliment dels 52 indicadors establerts.

URI:https://www.dosrius.cat/actualitat/noticies/lajuntament-de-dosrius-renova-un-any-mes-el-segell-infoparticipa.html
CLASS:PUBLIC
END:VEVENT
END:VCALENDAR
