BEGIN:VCALENDAR
VERSION:2.0
CALSCALE:GREGORIAN
PRODID:-//Diputació de Barcelona//DibaCMS//EN
BEGIN:VEVENT
UID:3834
DTSTAMP:20260422T213708
DTSTART:20230330T130000
DTEND:20480313T000000
SUMMARY:L’Ajuntament habilita un desfibril·lador extern automàtic al Casal del Far (Covasa)
LOCATION:
METHOD:PUBLISH
X-WR-CALNAME:dosrius@dosrius.cat
X-WR-TIMEZONE:Europe/Madrid
DESCRIPTION:Aquest equip se suma als vuit dispositius DEA que ja hi ha desplegats en diferents punts de Dosrius, Canyamars i Can Massuet del Far. Aquests desfibril·ladors estan preparats per a ser utilitzats per qualsevol persona en cas d’emergència davant d’una aturada cardíaca.

URI:https://www.dosrius.cat/actualitat/noticies/lajuntament-habilita-un-desfibrillador-extern-automatic-al-casal-del-far-covasa.html
CLASS:PUBLIC
END:VEVENT
END:VCALENDAR
