BEGIN:VCALENDAR
VERSION:2.0
CALSCALE:GREGORIAN
PRODID:-//Diputació de Barcelona//DibaCMS//EN
BEGIN:VEVENT
UID:3830
DTSTAMP:20260422T193926
DTSTART:20230327T080000
DTEND:20480124T000000
SUMMARY:Actuacions de millora a la xarxa d’aigua potable a Dosrius
LOCATION:
METHOD:PUBLISH
X-WR-CALNAME:dosrius@dosrius.cat
X-WR-TIMEZONE:Europe/Madrid
DESCRIPTION:Els treballs comportaran dimarts 28 de març una interrupció temporal en el subministrament d’aigua potable.

URI:https://www.dosrius.cat/actualitat/noticies/3830-actuacions-de-millora-a-la-xarxa-daigua-potable-a-dosrius.html
CLASS:PUBLIC
END:VEVENT
END:VCALENDAR
