BEGIN:VCALENDAR
VERSION:2.0
CALSCALE:GREGORIAN
PRODID:-//Diputació de Barcelona//DibaCMS//EN
BEGIN:VEVENT
UID:3825
DTSTAMP:20260422T230854
DTSTART:20230316T000000
DTEND:20480314T000000
SUMMARY:El nou skatepark es convertirà en un dels grans atractius lúdics i esportius de Dosrius
LOCATION:
METHOD:PUBLISH
X-WR-CALNAME:dosrius@dosrius.cat
X-WR-TIMEZONE:Europe/Madrid
DESCRIPTION:Aquesta setmana l’Ajuntament ha començat la construcció d’aquest equipament que s’ubicarà al costat del nou parc de cal·listènia de Dosrius.

URI:https://www.dosrius.cat/actualitat/noticies/el-nou-skatepark-es-convertira-en-un-dels-grans-atractius-ludics-i-esportius-de-dosrius.html
CLASS:PUBLIC
END:VEVENT
END:VCALENDAR
