BEGIN:VCALENDAR
VERSION:2.0
CALSCALE:GREGORIAN
PRODID:-//Diputació de Barcelona//DibaCMS//EN
BEGIN:VEVENT
UID:3822
DTSTAMP:20260422T223730
DTSTART:20230309T130000
DTEND:20480313T000000
SUMMARY:Arriba la nova T-jove: més anys i més zones 
LOCATION:
METHOD:PUBLISH
X-WR-CALNAME:dosrius@dosrius.cat
X-WR-TIMEZONE:Europe/Madrid
DESCRIPTION:A partir del 15 de març passa a ser per a menors de 30 anys i tindrà un únic preu de 40€ a l’àmbit de les sis corones del Sistema Tarifari Integrat de l’ATM de Barcelona.

URI:https://www.dosrius.cat/actualitat/noticies/arriba-la-nova-t-jove-mes-anys-i-mes-zones-.html
CLASS:PUBLIC
END:VEVENT
END:VCALENDAR
