BEGIN:VCALENDAR
VERSION:2.0
CALSCALE:GREGORIAN
PRODID:-//Diputació de Barcelona//DibaCMS//EN
BEGIN:VEVENT
UID:3821
DTSTAMP:20260422T231113
DTSTART:20230308T110000
DTEND:20480313T000000
SUMMARY:La Biblioteca municipal serà una realitat el curs 2026-2027
LOCATION:
METHOD:PUBLISH
X-WR-CALNAME:dosrius@dosrius.cat
X-WR-TIMEZONE:Europe/Madrid
DESCRIPTION:
URI:https://www.dosrius.cat/actualitat/noticies/la-biblioteca-municipal-sera-una-realitat-el-curs-2026-2027.html
CLASS:PUBLIC
END:VEVENT
END:VCALENDAR
