BEGIN:VCALENDAR
VERSION:2.0
CALSCALE:GREGORIAN
PRODID:-//Diputació de Barcelona//DibaCMS//EN
BEGIN:VEVENT
UID:3818
DTSTAMP:20260422T220446
DTSTART:20230601T120000
DTEND:20480313T000000
SUMMARY:Catorzena edició del Concurs Literari Esteve Albert
LOCATION:
METHOD:PUBLISH
X-WR-CALNAME:dosrius@dosrius.cat
X-WR-TIMEZONE:Europe/Madrid
DESCRIPTION:Les propostes es poden enviar fins el 10 de juny. 

URI:https://www.dosrius.cat/actualitat/noticies/catorzena-edicio-del-concurs-literari-esteve-albert.html
CLASS:PUBLIC
END:VEVENT
END:VCALENDAR
