BEGIN:VCALENDAR
VERSION:2.0
CALSCALE:GREGORIAN
PRODID:-//Diputació de Barcelona//DibaCMS//EN
BEGIN:VEVENT
UID:3813
DTSTAMP:20260422T220645
DTSTART:20230302T120000
DTEND:20240301T000000
SUMMARY:Acte públic de reobertura del consultori mèdic de Can Massuet del Far 
LOCATION:
METHOD:PUBLISH
X-WR-CALNAME:dosrius@dosrius.cat
X-WR-TIMEZONE:Europe/Madrid
DESCRIPTION:L’acte és obert a tota la població i tindrà lloc el dijous 9 de març a les 11 h.

URI:https://www.dosrius.cat/actualitat/noticies/acte-public-de-reobertura-del-consultori-medic-de-can-massuet-del-far-.html
CLASS:PUBLIC
END:VEVENT
END:VCALENDAR
