BEGIN:VCALENDAR
VERSION:2.0
CALSCALE:GREGORIAN
PRODID:-//Diputació de Barcelona//DibaCMS//EN
BEGIN:VEVENT
UID:3810
DTSTAMP:20260422T220547
DTSTART:20230302T110000
DTEND:20480215T000000
SUMMARY:Portes obertes a l’EBM La Caseta del Bosc de Can Martorell
LOCATION:
METHOD:PUBLISH
X-WR-CALNAME:dosrius@dosrius.cat
X-WR-TIMEZONE:Europe/Madrid
DESCRIPTION:Les famílies que hi vulguin participar han d’inscriure’s prèviament enviant un correu a ebm.casetadelbosc@peretarres.org o trucant al 93 791 93 64.

URI:https://www.dosrius.cat/actualitat/noticies/portes-obertes-a-lebm-la-caseta-del-bosc-de-can-martorell.html
CLASS:PUBLIC
END:VEVENT
END:VCALENDAR
