BEGIN:VCALENDAR
VERSION:2.0
CALSCALE:GREGORIAN
PRODID:-//Diputació de Barcelona//DibaCMS//EN
BEGIN:VEVENT
UID:3808
DTSTAMP:20260422T204134
DTSTART:20230227T110000
DTEND:20480221T000000
SUMMARY:Presentem el llibre monogràfic “La Família Dosrius. Una nissaga i dues branques”
LOCATION:
METHOD:PUBLISH
X-WR-CALNAME:dosrius@dosrius.cat
X-WR-TIMEZONE:Europe/Madrid
DESCRIPTION:La sessió tindrà lloc l’11 de març, a les 18 h, a la Sala de Plens de l’Ajuntament.

URI:https://www.dosrius.cat/actualitat/noticies/presentem-el-llibre-monografic-la-familia-dosrius-una-nissaga-i-dues-branques.html
CLASS:PUBLIC
END:VEVENT
END:VCALENDAR
