BEGIN:VCALENDAR
VERSION:2.0
CALSCALE:GREGORIAN
PRODID:-//Diputació de Barcelona//DibaCMS//EN
BEGIN:VEVENT
UID:3804
DTSTAMP:20260422T222027
DTSTART:20230303T080000
DTEND:20480222T000000
SUMMARY:Sortida a la Colònia Rusiñol amb Els Localets
LOCATION:
METHOD:PUBLISH
X-WR-CALNAME:dosrius@dosrius.cat
X-WR-TIMEZONE:Europe/Madrid
DESCRIPTION:L’activitat tindrà lloc el 19 d’abril i per a participar-hi cal inscriure’s del 6 de març al 6 d’abril al 93 791 80 14.

URI:https://www.dosrius.cat/actualitat/noticies/sortida-a-la-colonia-rusinol-amb-els-localets.html
CLASS:PUBLIC
END:VEVENT
END:VCALENDAR
