BEGIN:VCALENDAR
VERSION:2.0
CALSCALE:GREGORIAN
PRODID:-//Diputació de Barcelona//DibaCMS//EN
BEGIN:VEVENT
UID:3803
DTSTAMP:20260423T002452
DTSTART:20221028T000000
DTEND:20261001T000000
SUMMARY:Resum ple municipal 27/10/2022
LOCATION:
METHOD:PUBLISH
X-WR-CALNAME:dosrius@dosrius.cat
X-WR-TIMEZONE:Europe/Madrid
DESCRIPTION:
URI:https://www.dosrius.cat/actualitat/noticies/resum-ple-municipal-27102022.html
CLASS:PUBLIC
END:VEVENT
END:VCALENDAR
