BEGIN:VCALENDAR
VERSION:2.0
CALSCALE:GREGORIAN
PRODID:-//Diputació de Barcelona//DibaCMS//EN
BEGIN:VEVENT
UID:3802
DTSTAMP:20260422T220307
DTSTART:20230223T141500
DTEND:20240223T000000
SUMMARY:El nou edifici de l'Institut Els Roures col·loca la seva primera pedra
LOCATION:
METHOD:PUBLISH
X-WR-CALNAME:dosrius@dosrius.cat
X-WR-TIMEZONE:Europe/Madrid
DESCRIPTION:L’Ajuntament agraeix al Departament d’Educació la seva aposta per a fer realitat el projecte i felicita a la direcció de l’institut, a l’AFA i a tota la seva comunitat educativa pels esforços fets i la tasca duta a terme. 

URI:https://www.dosrius.cat/actualitat/noticies/el-nou-edifici-de-linstitut-els-roures-colloca-la-seva-primera-pedra.html
CLASS:PUBLIC
END:VEVENT
END:VCALENDAR
