BEGIN:VCALENDAR
VERSION:2.0
CALSCALE:GREGORIAN
PRODID:-//Diputació de Barcelona//DibaCMS//EN
BEGIN:VEVENT
UID:3801
DTSTAMP:20260423T010243
DTSTART:20230223T000000
DTEND:20480229T000000
SUMMARY:El consultori mèdic de Can Massuet del Far tornarà a obrir portes l’1 de març
LOCATION:
METHOD:PUBLISH
X-WR-CALNAME:dosrius@dosrius.cat
X-WR-TIMEZONE:Europe/Madrid
DESCRIPTION:Al llarg de les darreres setmanes s’ha dut a terme una reforma integral de l’equipament. 

URI:https://www.dosrius.cat/actualitat/noticies/el-consultori-medic-de-can-massuet-del-far-tornara-a-obrir-portes-l1-de-marc.html
CLASS:PUBLIC
END:VEVENT
END:VCALENDAR
