BEGIN:VCALENDAR
VERSION:2.0
CALSCALE:GREGORIAN
PRODID:-//Diputació de Barcelona//DibaCMS//EN
BEGIN:VEVENT
UID:3795
DTSTAMP:20260422T234831
DTSTART:20230221T080000
DTEND:20480222T000000
SUMMARY:Aquesta setmana es col·locarà la primera pedra del nou edifici de l’Institut Els Roures
LOCATION:
METHOD:PUBLISH
X-WR-CALNAME:dosrius@dosrius.cat
X-WR-TIMEZONE:Europe/Madrid
DESCRIPTION:L’acte tindrà lloc dimecres 22 de febrer, a les 10.40 h als terrenys del nou institut, i és obert a tota la població. La trobada estarà presidida pel conseller d’Educació de la Generalitat de Catalunya, Josep González Cambray. 

URI:https://www.dosrius.cat/actualitat/noticies/aquesta-setmana-es-collocara-la-primera-pedra-del-nou-edifici-de-linstitut-els-roures.html
CLASS:PUBLIC
END:VEVENT
END:VCALENDAR
