BEGIN:VCALENDAR
VERSION:2.0
CALSCALE:GREGORIAN
PRODID:-//Diputació de Barcelona//DibaCMS//EN
BEGIN:VEVENT
UID:3792
DTSTAMP:20260423T004337
DTSTART:20230310T100000
DTEND:20230310T110000
SUMMARY:Programa RED
LOCATION:08319 Dosrius
METHOD:PUBLISH
X-WR-CALNAME:dosrius@dosrius.cat
X-WR-TIMEZONE:Europe/Madrid
DESCRIPTION:
URI:https://www.dosrius.cat//continguts//3792-programa-red.html
CLASS:PUBLIC
END:VEVENT
END:VCALENDAR
