BEGIN:VCALENDAR
VERSION:2.0
CALSCALE:GREGORIAN
PRODID:-//Diputació de Barcelona//DibaCMS//EN
BEGIN:VEVENT
UID:3787
DTSTAMP:20260422T204453
DTSTART:20230221T110000
DTEND:20230221T120000
SUMMARY:Reunió amb Marc Verdaguer (Diputat DIBA innovació i cohesió territorial)
LOCATION:08319 Dosrius
METHOD:PUBLISH
X-WR-CALNAME:dosrius@dosrius.cat
X-WR-TIMEZONE:Europe/Madrid
DESCRIPTION:
URI:https://www.dosrius.cat//continguts//reunio-amb-marc-verdaguer-diputat-diba-innovacio-i-cohesio-territorial.html
CLASS:PUBLIC
END:VEVENT
END:VCALENDAR
