BEGIN:VCALENDAR
VERSION:2.0
CALSCALE:GREGORIAN
PRODID:-//Diputació de Barcelona//DibaCMS//EN
BEGIN:VEVENT
UID:3786
DTSTAMP:20260423T033827
DTSTART:20230220T120000
DTEND:20230220T130000
SUMMARY:Visita Can Batlle
LOCATION:08319 Dosrius
METHOD:PUBLISH
X-WR-CALNAME:dosrius@dosrius.cat
X-WR-TIMEZONE:Europe/Madrid
DESCRIPTION:
URI:https://www.dosrius.cat//continguts//visita-can-batlle.html
CLASS:PUBLIC
END:VEVENT
END:VCALENDAR
