BEGIN:VCALENDAR
VERSION:2.0
CALSCALE:GREGORIAN
PRODID:-//Diputació de Barcelona//DibaCMS//EN
BEGIN:VEVENT
UID:3785
DTSTAMP:20260423T063412
DTSTART:20230220T000000
DTEND:20240223T000000
SUMMARY:Ajut de 200 euros per a famílies vulnerables
LOCATION:
METHOD:PUBLISH
X-WR-CALNAME:dosrius@dosrius.cat
X-WR-TIMEZONE:Europe/Madrid
DESCRIPTION:S'adreça a persones amb baix nivell d'ingressos que l'any passat hagin estat assalariades, autònomes o hagin cobrat l'atur. No podran sol·licitar-lo pensionistes o aquells que cobrin l'ingrés vital mínim.

URI:https://www.dosrius.cat/actualitat/noticies/ajut-de-200-euros-per-a-families-vulnerables.html
CLASS:PUBLIC
END:VEVENT
END:VCALENDAR
