BEGIN:VCALENDAR
VERSION:2.0
CALSCALE:GREGORIAN
PRODID:-//Diputació de Barcelona//DibaCMS//EN
BEGIN:VEVENT
UID:3783
DTSTAMP:20260422T234632
DTSTART:20221201T000000
DTEND:20431212T000000
SUMMARY:Resum ple municipal extraordinari i urgent 30 de novembre
LOCATION:
METHOD:PUBLISH
X-WR-CALNAME:dosrius@dosrius.cat
X-WR-TIMEZONE:Europe/Madrid
DESCRIPTION:
URI:https://www.dosrius.cat/actualitat/noticies/resum-ple-municipal-extraordinari-i-urgent-30-de-novembre.html
CLASS:PUBLIC
END:VEVENT
END:VCALENDAR
