BEGIN:VCALENDAR
VERSION:2.0
CALSCALE:GREGORIAN
PRODID:-//Diputació de Barcelona//DibaCMS//EN
BEGIN:VEVENT
UID:3778
DTSTAMP:20260422T234757
DTSTART:20230213T130000
DTEND:20480229T000000
SUMMARY:Reunió de treball entre l’Ajuntament i l’OGAU sobre la pedrera del Rocà
LOCATION:
METHOD:PUBLISH
X-WR-CALNAME:dosrius@dosrius.cat
X-WR-TIMEZONE:Europe/Madrid
DESCRIPTION:L’Oficina de Gestió Ambiental Unificada realitzarà pròximament una visita d’inspecció amb agents rurals a la zona.

URI:https://www.dosrius.cat/actualitat/noticies/reunio-de-treball-entre-lajuntament-i-logau-sobre-la-pedrera-del-roca.html
CLASS:PUBLIC
END:VEVENT
END:VCALENDAR
