BEGIN:VCALENDAR
VERSION:2.0
CALSCALE:GREGORIAN
PRODID:-//Diputació de Barcelona//DibaCMS//EN
BEGIN:VEVENT
UID:3777
DTSTAMP:20260423T072511
DTSTART:20230127T093000
DTEND:20230127T103000
SUMMARY:Comissió informativa (CIG)
LOCATION:08319 Dosrius
METHOD:PUBLISH
X-WR-CALNAME:dosrius@dosrius.cat
X-WR-TIMEZONE:Europe/Madrid
DESCRIPTION:
URI:https://www.dosrius.cat//continguts//comissio-informativa-cig.html
CLASS:PUBLIC
END:VEVENT
END:VCALENDAR
