BEGIN:VCALENDAR
VERSION:2.0
CALSCALE:GREGORIAN
PRODID:-//Diputació de Barcelona//DibaCMS//EN
BEGIN:VEVENT
UID:3772
DTSTAMP:20260423T074152
DTSTART:20230224T120000
DTEND:20230224T130000
SUMMARY:Maria Llaras
LOCATION:08319 Dosrius
METHOD:PUBLISH
X-WR-CALNAME:dosrius@dosrius.cat
X-WR-TIMEZONE:Europe/Madrid
DESCRIPTION:
URI:https://www.dosrius.cat//continguts//maria-llaras.html
CLASS:PUBLIC
END:VEVENT
END:VCALENDAR
