BEGIN:VCALENDAR
VERSION:2.0
CALSCALE:GREGORIAN
PRODID:-//Diputació de Barcelona//DibaCMS//EN
BEGIN:VEVENT
UID:3771
DTSTAMP:20260422T204249
DTSTART:20230224T100000
DTEND:20230224T110000
SUMMARY:Programa RED
LOCATION:08319 Dosrius
METHOD:PUBLISH
X-WR-CALNAME:dosrius@dosrius.cat
X-WR-TIMEZONE:Europe/Madrid
DESCRIPTION:
URI:https://www.dosrius.cat//continguts//programa-red.html
CLASS:PUBLIC
END:VEVENT
END:VCALENDAR
