BEGIN:VCALENDAR
VERSION:2.0
CALSCALE:GREGORIAN
PRODID:-//Diputació de Barcelona//DibaCMS//EN
BEGIN:VEVENT
UID:3770
DTSTAMP:20260423T021058
DTSTART:20230222T163000
DTEND:20230222T173000
SUMMARY:Sardinada
LOCATION:08319 Dosrius
METHOD:PUBLISH
X-WR-CALNAME:dosrius@dosrius.cat
X-WR-TIMEZONE:Europe/Madrid
DESCRIPTION:
URI:https://www.dosrius.cat//continguts//sardinada.html
CLASS:PUBLIC
END:VEVENT
END:VCALENDAR
